View In:
  ArcGIS JavaScript
  ArcGIS Online Map Viewer
  ArcGIS Earth
Service Description:  SageGrouseDevSiting/RelMitigationEstimate
Name:  SageGrouseDevSiting/RelMitigationEstimate
Description:  
Single Fused Map Cache:  false
Extent: 
XMin: 302784.51289252704
YMin: 18464.406920778623
XMax: 733533.6669073021
YMax: 404607.9439816559
Spatial Reference: 2991
 (2991)
Initial Extent: 
XMin: 302784.51289252704
YMin: 18464.406920778623
XMax: 733533.6669073021
YMax: 404607.9439816559
Spatial Reference: 2991
 (2991)
Full Extent: 
XMin: 302784.51289252704
YMin: 18464.406920778623
XMax: 733533.6669073021
YMax: 404607.9439816559
Spatial Reference: 2991
 (2991)
Pixel Size X:  31.73339870449205
Pixel Size Y:  31.21360739316767
Band Count: 1
Pixel Type: F64
RasterFunction Infos:  {"rasterFunctionInfos": [{
 "name": "None",
 "description": "",
 "help": ""
}]}
Mensuration Capabilities: Basic
Has Histograms:  true
Has Colormap:  false
Has Multi Dimensions :  false
Rendering Rule: 
Min Scale:  0
Max Scale:  0
Copyright Text:  
Service Data Type:  esriImageServiceDataTypeGeneric
Min Values:  0
Max Values:  1
Mean Values:  0.1181724739493847
Standard Deviation Values:  0.23818190047718682
Object ID Field:  
Fields: 
None
Default Mosaic Method:  Center
Allowed Mosaic Methods:  
SortField:  
SortValue:  null
Mosaic Operator:  First
Default Compression Quality:  75
Default Resampling Method:  Bilinear
Max Record Count:  null
Max Image Height:  2000000
Max Image Width:  2000000
Max Download Image Count:  null
Max Mosaic Image Count:  null
Allow Raster Function:  true
Allow Copy:  true
Allow Analysis:  true
Allow Compute TiePoints:  false
Supports Statistics:  false
Supports Advanced Queries:  false
Use StandardizedQueries:  true
Raster Type Infos: 
Name: Raster Dataset
Description: Supports all ArcGIS Raster Datasets
Help: 
Has Raster Attribute Table:  false
Edit Fields Info:  null
Ownership Based AccessControl For Rasters:  null
Child Resources:
  
Info
  Histograms
  Statistics
  Key Properties
  Legend
  Raster Function Infos
Supported Operations:
  
Export Image
  Identify
  Measure
  Compute Histograms
  Compute Statistics Histograms
  Get Samples
  Compute Class Statistics
  Query Boundary
  Compute Pixel Location
  Compute Angles
  Validate
  Project