{
 "currentVersion": 11.1,
 "serviceDescription": "SageGrouseDevSiting/RelMitigationEstimate",
 "name": "SageGrouseDevSiting/RelMitigationEstimate",
 "description": "",
 "extent": {
  "xmin": 302784.51289252704,
  "ymin": 18464.406920778623,
  "xmax": 733533.6669073021,
  "ymax": 404607.9439816559,
  "spatialReference": {
   "wkid": 2991,
   "latestWkid": 2991
  }
 },
 "initialExtent": {
  "xmin": 302784.51289252704,
  "ymin": 18464.406920778623,
  "xmax": 733533.6669073021,
  "ymax": 404607.9439816559,
  "spatialReference": {
   "wkid": 2991,
   "latestWkid": 2991
  }
 },
 "fullExtent": {
  "xmin": 302784.51289252704,
  "ymin": 18464.406920778623,
  "xmax": 733533.6669073021,
  "ymax": 404607.9439816559,
  "spatialReference": {
   "wkid": 2991,
   "latestWkid": 2991
  }
 },
 "sortableFields": "",
 "bandCount": 1,
 "pixelType": "F64",
 "minValues": [
  0
 ],
 "maxValues": [
  1
 ],
 "meanValues": [
  0.1181724739493847
 ],
 "stdvValues": [
  0.23818190047718682
 ],
 "hasMultidimensions": false,
 "pixelSizeX": 31.73339870449205,
 "pixelSizeY": 31.21360739316767,
 "datasetFormat": "FGDBR",
 "uncompressedSize": 1343391632,
 "blockWidth": 128,
 "blockHeight": 128,
 "compressionType": "LZ77",
 "bandNames": [
  "Band_1"
 ],
 "allowCopy": true,
 "allowAnalysis": true,
 "itemAccess": false,
 "minPixelSize": 0,
 "maxPixelSize": 0,
 "copyrightText": "",
 "serviceDataType": "esriImageServiceDataTypeGeneric",
 "serviceSourceType": "esriImageServiceSourceTypeDataset",
 "objectIdField": "",
 "fields": [],
 "capabilities": "Mensuration,Image,Metadata",
 "defaultMosaicMethod": "Center",
 "allowedMosaicMethods": "",
 "sortField": "",
 "sortValue": null,
 "sortAscending": true,
 "mosaicOperator": "First",
 "defaultCompressionQuality": 75,
 "defaultResamplingMethod": "Bilinear",
 "maxImageHeight": 2000000,
 "maxImageWidth": 2000000,
 "allowRasterFunction": true,
 "rasterFunctionInfos": [
  {
   "name": "None",
   "description": "",
   "help": ""
  }
 ],
 "rasterTypeInfos": [
  {
   "name": "Raster Dataset",
   "description": "Supports all ArcGIS Raster Datasets",
   "help": ""
  }
 ],
 "mensurationCapabilities": "Basic",
 "hasHistograms": true,
 "hasColormap": false,
 "hasRasterAttributeTable": false,
 "minScale": 0,
 "maxScale": 0,
 "exportTilesAllowed": false,
 "supportsStatistics": false,
 "supportsAdvancedQueries": false,
 "editFieldsInfo": null,
 "ownershipBasedAccessControlForRasters": null,
 "allowComputeTiePoints": false,
 "useStandardizedQueries": true,
 "advancedQueryCapabilities": {
  "useStandardizedQueries": true,
  "supportsStatistics": false,
  "supportsOrderBy": false,
  "supportsDistinct": false,
  "supportsPagination": false
 },
 "spatialReference": {
  "wkid": 2991,
  "latestWkid": 2991
 }
}
