View In:
ArcGIS JavaScript
ArcGIS Online Map Viewer
ArcGIS Earth
Service Description: Wildfire/AvgFlameLength_ORLAM
Name: Wildfire/AvgFlameLength_ORLAM
Description:
Single Fused Map Cache: false
Extent:
XMin: 123142.42574127458
YMin: 58646.91156057082
XMax: 2427374.709205841
YMax: 1706678.4076235627
Spatial Reference: 102970
(6557)
Initial Extent:
XMin: 123142.42574127458
YMin: 58646.91156057082
XMax: 2427374.709205841
YMax: 1706678.4076235627
Spatial Reference: 102970
(6557)
Full Extent:
XMin: 123142.42574127458
YMin: 58646.91156057082
XMax: 2427374.709205841
YMax: 1706678.4076235627
Spatial Reference: 102970
(6557)
Pixel Size X: 98.42519685039369
Pixel Size Y: 98.42519685039369
Band Count: 1
Pixel Type: S8
RasterFunction Infos: {"rasterFunctionInfos": [{
"name": "None",
"description": "",
"help": ""
}]}
Mensuration Capabilities: Basic
Has Histograms: true
Has Colormap: false
Has Multi Dimensions : false
Rendering Rule:
Min Scale: 0
Max Scale: 0
Copyright Text:
Service Data Type: esriImageServiceDataTypeGeneric
Min Values: 0
Max Values: 100
Mean Values: 6.452568062857221
Standard Deviation Values: 9.399200028327982
Object ID Field:
Fields:
None
Default Mosaic Method: Center
Allowed Mosaic Methods:
SortField:
SortValue: null
Mosaic Operator: First
Default Compression Quality: 75
Default Resampling Method: Bilinear
Max Record Count: null
Max Image Height: 4100
Max Image Width: 15000
Max Download Image Count: null
Max Mosaic Image Count: null
Allow Raster Function: true
Allow Copy: true
Allow Analysis: true
Allow Compute TiePoints: false
Supports Statistics: false
Supports Advanced Queries: false
Use StandardizedQueries: true
Raster Type Infos:
Name: Raster Dataset
Description: Supports all ArcGIS Raster Datasets
Help:
Has Raster Attribute Table: true
Edit Fields Info: null
Ownership Based AccessControl For Rasters: null
Child Resources:
Info
Raster Attribute Table
Histograms
Statistics
Key Properties
Legend
Raster Function Infos
Supported Operations:
Export Image
Identify
Measure
Compute Histograms
Compute Statistics Histograms
Get Samples
Compute Class Statistics
Query Boundary
Compute Pixel Location
Compute Angles
Validate
Project