View In:
ArcGIS JavaScript
ArcGIS Online Map Viewer
ArcGIS Earth
Service Description: Renewable/wind_speed_100m
Name: Renewable/wind_speed_100m
Description:
Single Fused Map Cache: false
Extent:
XMin: -1.4413462025899544E7
YMin: 5158334.200891607
XMax: -1.2963048201061357E7
YMax: 5828525.416506494
Spatial Reference: 102100
(3857)
Initial Extent:
XMin: -1.4413462025899544E7
YMin: 5158334.200891607
XMax: -1.2963048201061357E7
YMax: 5828525.416506494
Spatial Reference: 102100
(3857)
Full Extent:
XMin: -1.4413462025899544E7
YMin: 5158334.200891607
XMax: -1.2963048201061357E7
YMax: 5828525.416506494
Spatial Reference: 102100
(3857)
Pixel Size X: 2000.5707928802588
Pixel Size Y: 2000.5707928802597
Band Count: 1
Pixel Type: U16
RasterFunction Infos: {"rasterFunctionInfos": [{
"name": "None",
"description": "",
"help": ""
}]}
Mensuration Capabilities: Basic
Has Histograms: true
Has Colormap: false
Has Multi Dimensions : false
Rendering Rule:
Min Scale: 0
Max Scale: 0
Copyright Text:
Service Data Type: esriImageServiceDataTypeGeneric
Min Values: 242
Max Values: 1073
Mean Values: 695.8588826922161
Standard Deviation Values: 167.06399622323372
Object ID Field:
Fields:
None
Default Mosaic Method: Center
Allowed Mosaic Methods:
SortField:
SortValue: null
Mosaic Operator: First
Default Compression Quality: 75
Default Resampling Method: Bilinear
Max Record Count: null
Max Image Height: 4100
Max Image Width: 15000
Max Download Image Count: null
Max Mosaic Image Count: null
Allow Raster Function: true
Allow Copy: true
Allow Analysis: true
Allow Compute TiePoints: false
Supports Statistics: false
Supports Advanced Queries: false
Use StandardizedQueries: true
Raster Type Infos:
Name: Raster Dataset
Description: Supports all ArcGIS Raster Datasets
Help:
Has Raster Attribute Table: true
Edit Fields Info: null
Ownership Based AccessControl For Rasters: null
Child Resources:
Info
Raster Attribute Table
Histograms
Statistics
Key Properties
Legend
Raster Function Infos
Supported Operations:
Export Image
Identify
Measure
Compute Histograms
Compute Statistics Histograms
Get Samples
Compute Class Statistics
Query Boundary
Compute Pixel Location
Compute Angles
Validate
Project