View In:
ArcGIS JavaScript
ArcGIS Online Map Viewer
ArcGIS Earth
Service Description: Renewable/wind_capacity_factor
Name: Renewable/wind_capacity_factor
Description:
Single Fused Map Cache: false
Extent:
XMin: -1.4119457767441519E7
YMin: 4931856.655649464
XMax: -1.2724457767441519E7
YMax: 6049356.655649464
Spatial Reference: 102100
(3857)
Initial Extent:
XMin: -1.4119457767441519E7
YMin: 4931856.655649464
XMax: -1.2724457767441519E7
YMax: 6049356.655649464
Spatial Reference: 102100
(3857)
Full Extent:
XMin: -1.4119457767441519E7
YMin: 4931856.655649464
XMax: -1.2724457767441519E7
YMax: 6049356.655649464
Spatial Reference: 102100
(3857)
Pixel Size X: 500.0
Pixel Size Y: 500.0
Band Count: 1
Pixel Type: U16
RasterFunction Infos: {"rasterFunctionInfos": [{
"name": "None",
"description": "",
"help": ""
}]}
Mensuration Capabilities: Basic
Has Histograms: true
Has Colormap: false
Has Multi Dimensions : false
Rendering Rule:
Min Scale: 0
Max Scale: 0
Copyright Text:
Service Data Type: esriImageServiceDataTypeGeneric
Min Values: 58
Max Values: 593
Mean Values: 274.0222865651034
Standard Deviation Values: 71.67230727491683
Object ID Field:
Fields:
None
Default Mosaic Method: Center
Allowed Mosaic Methods:
SortField:
SortValue: null
Mosaic Operator: First
Default Compression Quality: 75
Default Resampling Method: Bilinear
Max Record Count: null
Max Image Height: 4100
Max Image Width: 15000
Max Download Image Count: null
Max Mosaic Image Count: null
Allow Raster Function: true
Allow Copy: true
Allow Analysis: true
Allow Compute TiePoints: false
Supports Statistics: false
Supports Advanced Queries: false
Use StandardizedQueries: true
Raster Type Infos:
Name: Raster Dataset
Description: Supports all ArcGIS Raster Datasets
Help:
Has Raster Attribute Table: true
Edit Fields Info: null
Ownership Based AccessControl For Rasters: null
Child Resources:
Info
Raster Attribute Table
Histograms
Statistics
Key Properties
Legend
Raster Function Infos
Supported Operations:
Export Image
Identify
Measure
Compute Histograms
Compute Statistics Histograms
Get Samples
Compute Class Statistics
Query Boundary
Compute Pixel Location
Compute Angles
Validate
Project