View In:
ArcGIS JavaScript
ArcGIS Online Map Viewer
ArcGIS Earth
Service Description: Renewable/solar_potential
Name: Renewable/solar_potential
Description:
Single Fused Map Cache: false
Extent:
XMin: -1.418405521325612E7
YMin: 4918276.039026914
XMax: -1.270522391418093E7
YMax: 6065321.516628632
Spatial Reference: 102100
(3857)
Initial Extent:
XMin: -1.418405521325612E7
YMin: 4918276.039026914
XMax: -1.270522391418093E7
YMax: 6065321.516628632
Spatial Reference: 102100
(3857)
Full Extent:
XMin: -1.418405521325612E7
YMin: 4918276.039026914
XMax: -1.270522391418093E7
YMax: 6065321.516628632
Spatial Reference: 102100
(3857)
Pixel Size X: 507.3177698371149
Pixel Size Y: 507.3177698371155
Band Count: 1
Pixel Type: U8
RasterFunction Infos: {"rasterFunctionInfos": [{
"name": "None",
"description": "",
"help": ""
}]}
Mensuration Capabilities: Basic
Has Histograms: true
Has Colormap: false
Has Multi Dimensions : false
Rendering Rule:
Min Scale: 0
Max Scale: 0
Copyright Text:
Service Data Type: esriImageServiceDataTypeGeneric
Min Values: 165
Max Values: 253
Mean Values: 221.58028164681008
Standard Deviation Values: 19.106047002348514
Object ID Field:
Fields:
None
Default Mosaic Method: Center
Allowed Mosaic Methods:
SortField:
SortValue: null
Mosaic Operator: First
Default Compression Quality: 75
Default Resampling Method: Bilinear
Max Record Count: null
Max Image Height: 4100
Max Image Width: 15000
Max Download Image Count: null
Max Mosaic Image Count: null
Allow Raster Function: true
Allow Copy: true
Allow Analysis: true
Allow Compute TiePoints: false
Supports Statistics: false
Supports Advanced Queries: false
Use StandardizedQueries: true
Raster Type Infos:
Name: Raster Dataset
Description: Supports all ArcGIS Raster Datasets
Help:
Has Raster Attribute Table: true
Edit Fields Info: null
Ownership Based AccessControl For Rasters: null
Child Resources:
Info
Raster Attribute Table
Histograms
Statistics
Key Properties
Legend
Raster Function Infos
Supported Operations:
Export Image
Identify
Measure
Compute Histograms
Compute Statistics Histograms
Get Samples
Compute Class Statistics
Query Boundary
Compute Pixel Location
Compute Angles
Validate
Project