View In:
ArcGIS JavaScript
ArcGIS Online Map Viewer
ArcGIS Earth
Service Description: Renewable/global_horizontal_irradiance
Name: Renewable/global_horizontal_irradiance
Description:
Single Fused Map Cache: false
Extent:
XMin: -1.3885329325029299E7
YMin: 5158241.68717991
XMax: -1.2959823568097245E7
YMax: 5830451.131688454
Spatial Reference: 102100
(3857)
Initial Extent:
XMin: -1.3885329325029299E7
YMin: 5158241.68717991
XMax: -1.2959823568097245E7
YMax: 5830451.131688454
Spatial Reference: 102100
(3857)
Full Extent:
XMin: -1.3885329325029299E7
YMin: 5158241.68717991
XMax: -1.2959823568097245E7
YMax: 5830451.131688454
Spatial Reference: 102100
(3857)
Pixel Size X: 4871.0829312213355
Pixel Size Y: 4871.082931221335
Band Count: 1
Pixel Type: U16
RasterFunction Infos: {"rasterFunctionInfos": [{
"name": "None",
"description": "",
"help": ""
}]}
Mensuration Capabilities: Basic
Has Histograms: true
Has Colormap: false
Has Multi Dimensions : false
Rendering Rule:
Min Scale: 0
Max Scale: 0
Copyright Text:
Service Data Type: esriImageServiceDataTypeGeneric
Min Values: 312
Max Values: 504
Mean Values: 428.4241986020728
Standard Deviation Values: 36.76782661856541
Object ID Field:
Fields:
None
Default Mosaic Method: Center
Allowed Mosaic Methods:
SortField:
SortValue: null
Mosaic Operator: First
Default Compression Quality: 75
Default Resampling Method: Bilinear
Max Record Count: null
Max Image Height: 4100
Max Image Width: 15000
Max Download Image Count: null
Max Mosaic Image Count: null
Allow Raster Function: true
Allow Copy: true
Allow Analysis: true
Allow Compute TiePoints: false
Supports Statistics: false
Supports Advanced Queries: false
Use StandardizedQueries: true
Raster Type Infos:
Name: Raster Dataset
Description: Supports all ArcGIS Raster Datasets
Help:
Has Raster Attribute Table: true
Edit Fields Info: null
Ownership Based AccessControl For Rasters: null
Child Resources:
Info
Raster Attribute Table
Histograms
Statistics
Key Properties
Legend
Raster Function Infos
Supported Operations:
Export Image
Identify
Measure
Compute Histograms
Compute Statistics Histograms
Get Samples
Compute Class Statistics
Query Boundary
Compute Pixel Location
Compute Angles
Validate
Project